BEGIN:VCALENDAR
VERSION:2.0
PRODID:-//Hanscom AFB - ECPv6.15.20//NONSGML v1.0//EN
CALSCALE:GREGORIAN
METHOD:PUBLISH
X-ORIGINAL-URL:https://hanscomfss.com
X-WR-CALDESC:Events for Hanscom AFB
REFRESH-INTERVAL;VALUE=DURATION:PT1H
X-Robots-Tag:noindex
X-PUBLISHED-TTL:PT1H
BEGIN:VTIMEZONE
TZID:America/New_York
BEGIN:DAYLIGHT
TZOFFSETFROM:-0500
TZOFFSETTO:-0400
TZNAME:EDT
DTSTART:20250309T070000
END:DAYLIGHT
BEGIN:STANDARD
TZOFFSETFROM:-0400
TZOFFSETTO:-0500
TZNAME:EST
DTSTART:20251102T060000
END:STANDARD
BEGIN:DAYLIGHT
TZOFFSETFROM:-0500
TZOFFSETTO:-0400
TZNAME:EDT
DTSTART:20260308T070000
END:DAYLIGHT
BEGIN:STANDARD
TZOFFSETFROM:-0400
TZOFFSETTO:-0500
TZNAME:EST
DTSTART:20261101T060000
END:STANDARD
BEGIN:DAYLIGHT
TZOFFSETFROM:-0500
TZOFFSETTO:-0400
TZNAME:EDT
DTSTART:20270314T070000
END:DAYLIGHT
BEGIN:STANDARD
TZOFFSETFROM:-0400
TZOFFSETTO:-0500
TZNAME:EST
DTSTART:20271107T060000
END:STANDARD
END:VTIMEZONE
BEGIN:VTIMEZONE
TZID:UTC
BEGIN:STANDARD
TZOFFSETFROM:+0000
TZOFFSETTO:+0000
TZNAME:UTC
DTSTART:20250101T000000
END:STANDARD
END:VTIMEZONE
BEGIN:VEVENT
DTSTART;TZID=America/New_York:20260428T093000
DTEND;TZID=America/New_York:20260428T103000
DTSTAMP:20260425T074804
CREATED:20260122T125245Z
LAST-MODIFIED:20260123T191005Z
UID:10002783-1777368600-1777372200@hanscomfss.com
SUMMARY:Vinyasa Yoga Classes
DESCRIPTION:Take a moment to breathe\, stretch\, and reconnect 🧘‍♀️✨\nJoin us for Vinyasa Yoga Classes designed to support strength\, flexibility\, and balance—whether you’re brand new to yoga or a seasoned practitioner.\n🧘 Yoga Class Details\n📍 Location: Fitness & Sports Center\n🏢 Live class on the 2nd floor in the Yoga Studio\n👥 All Levels Welcome | Ages 16+\n⏱ 60-Minute Class\n💲 $10 per class\n🗓 Class Schedule:\nTuesdays: 9:30 AM\nThursdays: 5:30 PM\n🌿 Class Style\nVinyasa Yoga\nLive instruction by Reanna Shaw\nFlow-based movement paired with breath and mindful transitions. Come as you are\, move at your own pace\, and leave feeling refreshed and grounded.\nWe look forward to flowing with you\,
URL:https://hanscomfss.com/event/vinyasa-yoga-classes-2/2026-04-28/
LOCATION:Hanscom Fitness and Sports Center\, 180 Marrett St\, Hanscom AFB\, MA\, 01731\, United States
ATTACH;FMTTYPE=image/png:https://hanscomfss.com/wp-content/uploads/2026/01/2026-Fitness_CTR_YOGA_TV-scaled.png
END:VEVENT
BEGIN:VEVENT
DTSTART;TZID=UTC:20260429T150000
DTEND;TZID=UTC:20260429T180000
DTSTAMP:20260425T074804
CREATED:20250304T083204Z
LAST-MODIFIED:20251114T185558Z
UID:10002376-1777474800-1777485600@hanscomfss.com
SUMMARY:Rock Climbing Training
DESCRIPTION:Rock Climbing is available from Monday through Friday 6 AM to 6 PM
URL:https://hanscomfss.com/event/rock-climbing-3/2026-04-29/
LOCATION:MA
CATEGORIES:Hot Events
ATTACH;FMTTYPE=image/jpeg:https://hanscomfss.com/wp-content/uploads/2025/11/2024_rock_climbing_TV-scaled.jpg
END:VEVENT
BEGIN:VEVENT
DTSTART;TZID=America/New_York:20260430T173000
DTEND;TZID=America/New_York:20260430T183000
DTSTAMP:20260425T074804
CREATED:20260122T125956Z
LAST-MODIFIED:20260123T190929Z
UID:10003051-1777570200-1777573800@hanscomfss.com
SUMMARY:Vinyasa Yoga Classes
DESCRIPTION:Take a moment to breathe\, stretch\, and reconnect 🧘‍♀️✨\nJoin us for Vinyasa Yoga Classes designed to support strength\, flexibility\, and balance—whether you’re brand new to yoga or a seasoned practitioner.\n🧘 Yoga Class Details\n📍 Location: Fitness & Sports Center\n🏢 Live class on the 2nd floor in the Yoga Studio\n👥 All Levels Welcome | Ages 16+\n⏱ 60-Minute Class\n💲 $10 per class\n🗓 Class Schedule:\nTuesdays: 9:30 AM\nThursdays: 5:30 PM\n🌿 Class Style\nVinyasa Yoga\nLive instruction by Reanna Shaw\nFlow-based movement paired with breath and mindful transitions. Come as you are\, move at your own pace\, and leave feeling refreshed and grounded.\nWe look forward to flowing with you\,
URL:https://hanscomfss.com/event/vinyasa-yoga-classes/2026-04-30/
LOCATION:Hanscom Fitness and Sports Center\, 180 Marrett St\, Hanscom AFB\, MA\, 01731\, United States
ATTACH;FMTTYPE=image/png:https://hanscomfss.com/wp-content/uploads/2026/01/2026-Fitness_CTR_YOGA_TV-scaled.png
END:VEVENT
END:VCALENDAR